BEGIN:VCALENDAR
PRODID:-//Microsoft Corporation//Outlook 14.0 MIMEDIR//EN
VERSION:2.0
METHOD:REQUEST
X-MS-OLK-FORCEINSPECTOROPEN:TRUE
BEGIN:VTIMEZONE
TZID:AUS Eastern Standard Time
BEGIN:STANDARD
DTSTART:16010401T030000
RRULE:FREQ=YEARLY;BYDAY=1SU;BYMONTH=4
TZOFFSETFROM:+1100
TZOFFSETTO:+1000
END:STANDARD
BEGIN:DAYLIGHT
DTSTART:16011007T020000
RRULE:FREQ=YEARLY;BYDAY=1SU;BYMONTH=10
TZOFFSETFROM:+1000
TZOFFSETTO:+1100
END:DAYLIGHT
END:VTIMEZONE
BEGIN:VEVENT
ATTENDEE;CN="'Steve Johnston'";RSVP=TRUE:mailto:steve.johnston@caudit.edu.a
	u
CLASS:PUBLIC
CREATED:20130705T045145Z
DESCRIPTION:\n
DTEND;TZID="AUS Eastern Standard Time":20130716T130000
DTSTAMP:20130703T235913Z
DTSTART;TZID="AUS Eastern Standard Time":20130716T120000
LAST-MODIFIED:20130705T045145Z
LOCATION:Webex
ORGANIZER;CN="Peter Elford":mailto:p.elford@rdsi.uq.edu.au
PRIORITY:5
RRULE:FREQ=WEEKLY;COUNT=23;BYDAY=TU
SEQUENCE:0
SUMMARY;LANGUAGE=en-au:PLACEHOLDER: RDSI/CAUDIT eResearch Briefings
TRANSP:OPAQUE
UID:040000008200E00074C5B7101A82E00800000000C0FE55239D78CE01000000000000000
	010000000A07511CA56B10D4ABE35D3B01FA52721
X-ALT-DESC;FMTTYPE=text/html:<!DOCTYPE HTML PUBLIC "-//W3C//DTD HTML 3.2//E
	N">\n<HTML>\n<HEAD>\n<META HTTP-EQUIV="Content-Type" CONTENT="text/html\; 
	charset=iso-8859-1">\n<META NAME="Generator" CONTENT="MS Exchange Server v
	ersion 14.01.0325.000">\n<TITLE>PLACEHOLDER: RDSI/CAUDIT eResearch Briefin
	gs</TITLE>\n</HEAD>\n<BODY>\n<!-- Converted from text/rtf format -->\n\n<P
	 DIR=LTR><SPAN LANG="en-au"></SPAN></P>\n\n</BODY>\n</HTML>
X-MICROSOFT-CDO-BUSYSTATUS:BUSY
X-MICROSOFT-CDO-IMPORTANCE:1
X-MICROSOFT-DISALLOW-COUNTER:FALSE
X-MS-OLK-APPTSEQTIME:20130703T235913Z
X-MS-OLK-AUTOFILLLOCATION:FALSE
X-MS-OLK-CONFTYPE:0
BEGIN:VALARM
TRIGGER:-PT15M
ACTION:DISPLAY
DESCRIPTION:Reminder
END:VALARM
END:VEVENT
END:VCALENDAR
